BEGIN:VCALENDAR
PRODID:-//eluceo/ical//2.0/EN
VERSION:2.0
CALSCALE:GREGORIAN
BEGIN:VEVENT
UID:ea7522de15e1223a8bd6dce9028084de
DTSTAMP:20260424T040135Z
SUMMARY:Conviviale in sede con dibattito Le due varianti di interramento de
 ll’A2
DESCRIPTION:Webbplats: https://loverciano.ch\nTalare: \n\n\n\n\n\n\n\n\n\n\
 n\n\n\n\n\n\n\n\nLe due varianti di\ninterramento dell’A2: dibattito con
  A. Rigamonti\, E. Fontana e E. Ostinelli\n\n\n\n
URL:https://rotary-mendrisiotto.ch/sv/agenda/show/163821
DTSTART;TZID=Europe/Zurich:20230914T190000
DTEND;TZID=Europe/Zurich:20230914T220000
LOCATION:Istituto S Angelo Loverciano\, Via Loverciano 2\, 6874 Castel San 
 Pietro\, Svizzera
CATEGORIES:Rotary
END:VEVENT
BEGIN:VTIMEZONE
TZID:Europe/Zurich
BEGIN:DAYLIGHT
DTSTART:20230914T190000
TZNAME:CEST
TZOFFSETTO:+0200
TZOFFSETFROM:+0200
END:DAYLIGHT
END:VTIMEZONE
END:VCALENDAR
