BEGIN:VCALENDAR
PRODID:-//eluceo/ical//2.0/EN
VERSION:2.0
CALSCALE:GREGORIAN
BEGIN:VEVENT
UID:88f2331ef5d712a4c9b96c483fe4b6cb
DTSTAMP:20260422T081115Z
SUMMARY:Pranzo di lavoro
DESCRIPTION:
URL:https://rotary-mendrisiotto.ch/sv/agenda/show/156957
DTSTART;TZID=Europe/Zurich:20230323T121500
DTEND;TZID=Europe/Zurich:20230323T141500
LOCATION:Mövenpick\, Chiasso
CATEGORIES:Rotary
END:VEVENT
BEGIN:VTIMEZONE
TZID:Europe/Zurich
BEGIN:STANDARD
DTSTART:20230323T121500
TZNAME:CET
TZOFFSETTO:+0100
TZOFFSETFROM:+0100
END:STANDARD
END:VTIMEZONE
END:VCALENDAR
