BEGIN:VCALENDAR
PRODID:-//eluceo/ical//2.0/EN
VERSION:2.0
CALSCALE:GREGORIAN
BEGIN:VEVENT
UID:703153a65e4aa7f2f5247173d915d274
DTSTAMP:20260422T173329Z
SUMMARY:Pranzo di lavoro\, Mövenpick
DESCRIPTION:
URL:https://rotary-mendrisiotto.ch/sv/agenda/show/155286
DTSTART;TZID=Europe/Zurich:20230126T121500
DTEND;TZID=Europe/Zurich:20230126T141500
LOCATION:Mövenpick\, Chiasso
CATEGORIES:Rotary
END:VEVENT
BEGIN:VTIMEZONE
TZID:Europe/Zurich
BEGIN:STANDARD
DTSTART:20230126T121500
TZNAME:CET
TZOFFSETTO:+0100
TZOFFSETFROM:+0100
END:STANDARD
END:VTIMEZONE
END:VCALENDAR
