BEGIN:VCALENDAR
PRODID:-//eluceo/ical//2.0/EN
VERSION:2.0
CALSCALE:GREGORIAN
BEGIN:VEVENT
UID:f0b20620a02252906850ccd2ab69c9fe
DTSTAMP:20260422T162025Z
SUMMARY:Future Farmers
DESCRIPTION:Sito web: https://loverciano.ch
URL:https://rotary-mendrisiotto.ch/it/agenda/show/191507
DTSTART;TZID=Europe/Zurich:20250417T193000
DTEND;TZID=Europe/Zurich:20250417T230000
LOCATION:Istituto S Angelo Loverciano\, Via Loverciano 2\, 6874 Castel San 
 Pietro\, Svizzera
CATEGORIES:Rotary
END:VEVENT
BEGIN:VTIMEZONE
TZID:Europe/Zurich
BEGIN:DAYLIGHT
DTSTART:20250417T193000
TZNAME:CEST
TZOFFSETTO:+0200
TZOFFSETFROM:+0200
END:DAYLIGHT
END:VTIMEZONE
END:VCALENDAR
