BEGIN:VCALENDAR
PRODID:-//eluceo/ical//2.0/EN
VERSION:2.0
CALSCALE:GREGORIAN
BEGIN:VEVENT
UID:6bcfe2868d258671ad68910cf317ae31
DTSTAMP:20260425T144959Z
SUMMARY:Conviviale American Style (degustazioni hamburger e birre)
DESCRIPTION:Relatore/i: Serata conviviale estiva con degustazioni Hamburger
  diversi abbinati alla propria birraCosto ospiti e SOP frs. 60.00
URL:https://rotary-mendrisiotto.ch/it/agenda/show/180116
DTSTART;TZID=Europe/Zurich:20240704T190000
DTEND;TZID=Europe/Zurich:20240704T220000
LOCATION:Murrifield Pub\, Via Favre\, 6830 Chiasso
CATEGORIES:Rotary
END:VEVENT
BEGIN:VTIMEZONE
TZID:Europe/Zurich
BEGIN:DAYLIGHT
DTSTART:20240704T190000
TZNAME:CEST
TZOFFSETTO:+0200
TZOFFSETFROM:+0200
END:DAYLIGHT
END:VTIMEZONE
END:VCALENDAR
