BEGIN:VCALENDAR
PRODID:-//eluceo/ical//2.0/EN
VERSION:2.0
CALSCALE:GREGORIAN
BEGIN:VEVENT
UID:b230148b833804353e28e2a1ca274ada
DTSTAMP:20260422T063844Z
SUMMARY:Conferenza Stampa presso Spaziofficina MAX Museo
DESCRIPTION:Sito web: https://www.centroculturalechiasso.ch/spazio-officina
 /
URL:https://rotary-mendrisiotto.ch/it/agenda/show/139589
DTSTART;TZID=Europe/Zurich:20220309T113000
DTEND;TZID=Europe/Zurich:20220309T124500
LOCATION:Spaziofficina\, MAX Museo Chiasso
CATEGORIES:Rotary
END:VEVENT
BEGIN:VTIMEZONE
TZID:Europe/Zurich
BEGIN:STANDARD
DTSTART:20220309T113000
TZNAME:CET
TZOFFSETTO:+0100
TZOFFSETFROM:+0100
END:STANDARD
END:VTIMEZONE
END:VCALENDAR
