BEGIN:VCALENDAR
PRODID:-//eluceo/ical//2.0/EN
VERSION:2.0
CALSCALE:GREGORIAN
BEGIN:VEVENT
UID:6921713f84fc4f98db83526c63f5e269
DTSTAMP:20260422T083526Z
SUMMARY:intelligenza artificiale\, paradossi della fisica ed eccellenza tic
 inese
DESCRIPTION:Sito web: https://m3.dti.supsi.ch\nRelatore/i: Prof Andrea Dana
 ni
URL:https://rotary-mendrisiotto.ch/it/agenda/show/137506
DTSTART;TZID=Europe/Zurich:20220203T190000
DTEND;TZID=Europe/Zurich:20220203T203000
LOCATION:ZOOM
CATEGORIES:Rotary
END:VEVENT
BEGIN:VTIMEZONE
TZID:Europe/Zurich
BEGIN:STANDARD
DTSTART:20220203T190000
TZNAME:CET
TZOFFSETTO:+0100
TZOFFSETFROM:+0100
END:STANDARD
END:VTIMEZONE
END:VCALENDAR
