BEGIN:VCALENDAR
PRODID:-//eluceo/ical//2.0/EN
VERSION:2.0
CALSCALE:GREGORIAN
BEGIN:VEVENT
UID:33c18d7e1ab8328ce011dc49c7db41a8
DTSTAMP:20260422T083915Z
SUMMARY:Pranzo
DESCRIPTION:Sito web: https://www.movenpickchiasso.com
URL:https://rotary-mendrisiotto.ch/it/agenda/show/137339
DTSTART;TZID=Europe/Zurich:20220224T121500
DTEND;TZID=Europe/Zurich:20220224T140000
LOCATION:Movenpick Chiasso
CATEGORIES:Rotary
END:VEVENT
BEGIN:VTIMEZONE
TZID:Europe/Zurich
BEGIN:STANDARD
DTSTART:20220224T121500
TZNAME:CET
TZOFFSETTO:+0100
TZOFFSETFROM:+0100
END:STANDARD
END:VTIMEZONE
END:VCALENDAR
