BEGIN:VCALENDAR
PRODID:-//eluceo/ical//2.0/EN
VERSION:2.0
CALSCALE:GREGORIAN
BEGIN:VEVENT
UID:4ca8bcb17a4f78c35ae663360934e1cf
DTSTAMP:20260423T155114Z
SUMMARY:Colazione
DESCRIPTION:Sito web: https://www.movenpickchiasso.com
URL:https://rotary-mendrisiotto.ch/it/agenda/show/129733
DTSTART;TZID=Europe/Zurich:20211118T071500
DTEND;TZID=Europe/Zurich:20211118T091500
LOCATION:Movenpick Chiasso
CATEGORIES:Rotary
END:VEVENT
BEGIN:VTIMEZONE
TZID:Europe/Zurich
BEGIN:STANDARD
DTSTART:20211118T071500
TZNAME:CET
TZOFFSETTO:+0100
TZOFFSETFROM:+0100
END:STANDARD
END:VTIMEZONE
END:VCALENDAR
