BEGIN:VCALENDAR
PRODID:-//eluceo/ical//2.0/EN
VERSION:2.0
CALSCALE:GREGORIAN
BEGIN:VEVENT
UID:f2da479c746ce9a6059f72526e6fbc2b
DTSTAMP:20260425T204432Z
SUMMARY:Rassegna gastronomica
DESCRIPTION:Sito web: https://cortedelvinoticino.ch
URL:https://rotary-mendrisiotto.ch/it/agenda/show/129719
DTSTART;TZID=Europe/Zurich:20211028T191500
DTEND;TZID=Europe/Zurich:20211028T221500
LOCATION:Cena Rassegna-Classic presso la Corte del Vino Ticino
CATEGORIES:Rotary
END:VEVENT
BEGIN:VTIMEZONE
TZID:Europe/Zurich
BEGIN:DAYLIGHT
DTSTART:20211028T191500
TZNAME:CEST
TZOFFSETTO:+0200
TZOFFSETFROM:+0200
END:DAYLIGHT
END:VTIMEZONE
END:VCALENDAR
