BEGIN:VCALENDAR
PRODID:-//eluceo/ical//2.0/EN
VERSION:2.0
CALSCALE:GREGORIAN
BEGIN:VEVENT
UID:b2a97f7e8aae0b6f060e06f4ecfd58be
DTSTAMP:20260424T131506Z
SUMMARY:Visita della Governatrice del Distretto 1980 Ursula Schöpfer
DESCRIPTION:Sito web: https://loverciano.ch
URL:https://rotary-mendrisiotto.ch/it/agenda/show/129701
DTSTART;TZID=Europe/Zurich:20211007T121500
DTEND;TZID=Europe/Zurich:20211007T143000
LOCATION:Istituto S Angelo Loverciano
CATEGORIES:Rotary
END:VEVENT
BEGIN:VTIMEZONE
TZID:Europe/Zurich
BEGIN:DAYLIGHT
DTSTART:20211007T121500
TZNAME:CEST
TZOFFSETTO:+0200
TZOFFSETFROM:+0200
END:DAYLIGHT
END:VTIMEZONE
END:VCALENDAR
