BEGIN:VCALENDAR
PRODID:-//eluceo/ical//2.0/EN
VERSION:2.0
CALSCALE:GREGORIAN
BEGIN:VEVENT
UID:ce12ec54b1dc183d13341aa77a6d8a11
DTSTAMP:20260422T184751Z
SUMMARY:Susy e i traguardi del corpo attraverso la ginnastica
DESCRIPTION:Sito web: https://www.gravityart.ch\nRelatore/i: Susanna Radice
  Calì
URL:https://rotary-mendrisiotto.ch/it/agenda/show/129626
DTSTART;TZID=Europe/Zurich:20210930T190000
DTEND;TZID=Europe/Zurich:20210930T220000
LOCATION:Istituto S Angelo Loverciano
CATEGORIES:Rotary
END:VEVENT
BEGIN:VTIMEZONE
TZID:Europe/Zurich
BEGIN:DAYLIGHT
DTSTART:20210930T190000
TZNAME:CEST
TZOFFSETTO:+0200
TZOFFSETFROM:+0200
END:DAYLIGHT
END:VTIMEZONE
END:VCALENDAR
