BEGIN:VCALENDAR
PRODID:-//eluceo/ical//2.0/EN
VERSION:2.0
CALSCALE:GREGORIAN
BEGIN:VEVENT
UID:b2abedb6f151123405c2423fe4d33f36
DTSTAMP:20260422T233054Z
SUMMARY:il design dell'autoveicolo di lusso
DESCRIPTION:Sito web: http://www.leonelloartdesign.com\nRelatore/i: Relator
 e Michele Leonello
URL:https://rotary-mendrisiotto.ch/it/agenda/show/129623
DTSTART;TZID=Europe/Zurich:20210923T190000
DTEND;TZID=Europe/Zurich:20210923T230000
LOCATION:Istituto S Angelo Loverciano
CATEGORIES:Rotary
END:VEVENT
BEGIN:VTIMEZONE
TZID:Europe/Zurich
BEGIN:DAYLIGHT
DTSTART:20210923T190000
TZNAME:CEST
TZOFFSETTO:+0200
TZOFFSETFROM:+0200
END:DAYLIGHT
END:VTIMEZONE
END:VCALENDAR
