BEGIN:VCALENDAR
PRODID:-//eluceo/ical//2.0/EN
VERSION:2.0
CALSCALE:GREGORIAN
BEGIN:VEVENT
UID:fc4d66e516d9fa962ad92e639c83b0fe
DTSTAMP:20260420T160901Z
SUMMARY:Grigliata al Grotto del Mulino
DESCRIPTION:Sito web: http://www.grottomulino.com
URL:https://rotary-mendrisiotto.ch/it/agenda/show/128166
DTSTART;TZID=Europe/Zurich:20210805T191500
DTEND;TZID=Europe/Zurich:20210805T220000
LOCATION:Saceba Morbio Inferiore\, Via ai Crotti 2
CATEGORIES:Rotary
END:VEVENT
BEGIN:VTIMEZONE
TZID:Europe/Zurich
BEGIN:DAYLIGHT
DTSTART:20210805T191500
TZNAME:CEST
TZOFFSETTO:+0200
TZOFFSETFROM:+0200
END:DAYLIGHT
END:VTIMEZONE
END:VCALENDAR
