BEGIN:VCALENDAR
PRODID:-//eluceo/ical//2.0/EN
VERSION:2.0
CALSCALE:GREGORIAN
BEGIN:VEVENT
UID:69ab48893ad5e4212946463349fb5a24
DTSTAMP:20260423T101513Z
SUMMARY:giovedì 7 maggio 2020
DESCRIPTION:CONVIVIALE IN VIDEOCONFERENZA\, ospite l'avvocato Simona Genin
 i che ci parlerà di fiscalità ticinese e svizzera per gli imprenditori\,
  nei tempi di Covid 19
URL:https://rotary-mendrisiotto.ch/it/agenda/show/111119
DTSTART;TZID=Europe/Zurich:20200507T180000
DTEND;TZID=Europe/Zurich:20200507T190000
LOCATION:-
CATEGORIES:Rotary
END:VEVENT
BEGIN:VTIMEZONE
TZID:Europe/Zurich
BEGIN:DAYLIGHT
DTSTART:20200507T180000
TZNAME:CEST
TZOFFSETTO:+0200
TZOFFSETFROM:+0200
END:DAYLIGHT
END:VTIMEZONE
END:VCALENDAR
