BEGIN:VCALENDAR
PRODID:-//eluceo/ical//2.0/EN
VERSION:2.0
CALSCALE:GREGORIAN
BEGIN:VEVENT
UID:daf29068c252b0ef32b028538a5ee171
DTSTAMP:20260423T060924Z
SUMMARY:giovedì 30 aprile 
DESCRIPTION:CADE
URL:https://rotary-mendrisiotto.ch/it/agenda/show/111118
DTSTART;TZID=Europe/Zurich:20200430T191500
DTEND;TZID=Europe/Zurich:20200430T220000
LOCATION:-
CATEGORIES:Rotary
END:VEVENT
BEGIN:VTIMEZONE
TZID:Europe/Zurich
BEGIN:DAYLIGHT
DTSTART:20200430T191500
TZNAME:CEST
TZOFFSETTO:+0200
TZOFFSETFROM:+0200
END:DAYLIGHT
END:VTIMEZONE
END:VCALENDAR
