BEGIN:VCALENDAR
PRODID:-//eluceo/ical//2.0/EN
VERSION:2.0
CALSCALE:GREGORIAN
BEGIN:VEVENT
UID:c4eb9c7b542943dc8e15bc3e5d2c74e4
DTSTAMP:20260423T014739Z
SUMMARY:giovedì 23 aprile 2020
DESCRIPTION:CONVIVIALE IN VIDEOCONFERENZA
URL:https://rotary-mendrisiotto.ch/it/agenda/show/111117
DTSTART;TZID=Europe/Zurich:20200423T183000
DTEND;TZID=Europe/Zurich:20200423T220000
LOCATION:-
CATEGORIES:Rotary
END:VEVENT
BEGIN:VTIMEZONE
TZID:Europe/Zurich
BEGIN:DAYLIGHT
DTSTART:20200423T183000
TZNAME:CEST
TZOFFSETTO:+0200
TZOFFSETFROM:+0200
END:DAYLIGHT
END:VTIMEZONE
END:VCALENDAR
