BEGIN:VCALENDAR
PRODID:-//eluceo/ical//2.0/EN
VERSION:2.0
CALSCALE:GREGORIAN
BEGIN:VEVENT
UID:f99aa87b95f150ebda023c2343d9c320
DTSTAMP:20260422T204203Z
SUMMARY:giovedì 16 aprile 2020
DESCRIPTION:CONVIVIALE IN VIDEOCONFERENZA
URL:https://rotary-mendrisiotto.ch/it/agenda/show/111116
DTSTART;TZID=Europe/Zurich:20200416T183000
DTEND;TZID=Europe/Zurich:20200416T220000
LOCATION:-
CATEGORIES:Rotary
END:VEVENT
BEGIN:VTIMEZONE
TZID:Europe/Zurich
BEGIN:DAYLIGHT
DTSTART:20200416T183000
TZNAME:CEST
TZOFFSETTO:+0200
TZOFFSETFROM:+0200
END:DAYLIGHT
END:VTIMEZONE
END:VCALENDAR
