BEGIN:VCALENDAR
PRODID:-//eluceo/ical//2.0/EN
VERSION:2.0
CALSCALE:GREGORIAN
BEGIN:VEVENT
UID:209fc2afe23774362cf5c014fd6f43b9
DTSTAMP:20260422T113159Z
SUMMARY:giovedì 2 aprile 2020
DESCRIPTION:CONVIVIALE IN VIDEOCONFERENZA
URL:https://rotary-mendrisiotto.ch/it/agenda/show/108333
DTSTART;TZID=Europe/Zurich:20200402T180000
DTEND;TZID=Europe/Zurich:20200402T194500
LOCATION:VIDEOCONFERENZA 
CATEGORIES:Rotary
END:VEVENT
BEGIN:VTIMEZONE
TZID:Europe/Zurich
BEGIN:DAYLIGHT
DTSTART:20200402T180000
TZNAME:CEST
TZOFFSETTO:+0200
TZOFFSETFROM:+0200
END:DAYLIGHT
END:VTIMEZONE
END:VCALENDAR
