BEGIN:VCALENDAR
PRODID:-//eluceo/ical//2.0/EN
VERSION:2.0
CALSCALE:GREGORIAN
BEGIN:VEVENT
UID:f741d268dc73b9087beb15dce68202fc
DTSTAMP:20260422T010335Z
SUMMARY:giovedì 5 marzo 2020
DESCRIPTION:cena con relatore Prof Dr Claudio Gobbi\, tema: sclerosi multip
 la
URL:https://rotary-mendrisiotto.ch/it/agenda/show/108330
DTSTART;TZID=Europe/Zurich:20200305T191500
DTEND;TZID=Europe/Zurich:20200305T220000
LOCATION:Hotel Coronado
CATEGORIES:Rotary
END:VEVENT
BEGIN:VTIMEZONE
TZID:Europe/Zurich
BEGIN:STANDARD
DTSTART:20200305T191500
TZNAME:CET
TZOFFSETTO:+0100
TZOFFSETFROM:+0100
END:STANDARD
END:VTIMEZONE
END:VCALENDAR
