BEGIN:VCALENDAR
PRODID:-//eluceo/ical//2.0/EN
VERSION:2.0
CALSCALE:GREGORIAN
BEGIN:VEVENT
UID:51c0a43d476418fd799330a007e74c99
DTSTAMP:20260422T185343Z
SUMMARY:domenica 8 dicembre 2019
DESCRIPTION:Mercatino di Natale (a Chiasso) in favore dell'Istituto Loverci
 ano.
URL:https://rotary-mendrisiotto.ch/it/agenda/show/105559
DTSTART;TZID=Europe/Zurich:20191208T100000
DTEND;TZID=Europe/Zurich:20191208T180000
LOCATION:Chiasso
CATEGORIES:Rotary
END:VEVENT
BEGIN:VTIMEZONE
TZID:Europe/Zurich
BEGIN:STANDARD
DTSTART:20191208T100000
TZNAME:CET
TZOFFSETTO:+0100
TZOFFSETFROM:+0100
END:STANDARD
END:VTIMEZONE
END:VCALENDAR
