BEGIN:VCALENDAR
PRODID:-//eluceo/ical//2.0/EN
VERSION:2.0
CALSCALE:GREGORIAN
BEGIN:VEVENT
UID:a5a6fef1e3b282280605bf6d4fa94b66
DTSTAMP:20260422T093450Z
SUMMARY:giovedì 19 dicembre 2019
DESCRIPTION:Panettonata e scambio di auguri.\n\nL'occasione sarà propizia 
 per consegnare la menzione Paul Harris all'arch Paolo Zürcher\, ovviament
 e presente per l'occasione.
URL:https://rotary-mendrisiotto.ch/it/agenda/show/103286
DTSTART;TZID=Europe/Zurich:20191219T183000
DTEND;TZID=Europe/Zurich:20191219T213000
LOCATION:Hotel Coronado
CATEGORIES:Rotary
END:VEVENT
BEGIN:VTIMEZONE
TZID:Europe/Zurich
BEGIN:STANDARD
DTSTART:20191219T183000
TZNAME:CET
TZOFFSETTO:+0100
TZOFFSETFROM:+0100
END:STANDARD
END:VTIMEZONE
END:VCALENDAR
