BEGIN:VCALENDAR
PRODID:-//eluceo/ical//2.0/EN
VERSION:2.0
CALSCALE:GREGORIAN
BEGIN:VEVENT
UID:9c4155ff6354d3e91cfbc93c6a13dcc7
DTSTAMP:20260422T234431Z
SUMMARY:giovedì 5 dicembre 2019
DESCRIPTION:Pranzo in sede con aggiornamento del programma
URL:https://rotary-mendrisiotto.ch/it/agenda/show/103284
DTSTART;TZID=Europe/Zurich:20191205T121500
DTEND;TZID=Europe/Zurich:20191205T141500
LOCATION:Hotel Coronado
CATEGORIES:Rotary
END:VEVENT
BEGIN:VTIMEZONE
TZID:Europe/Zurich
BEGIN:STANDARD
DTSTART:20191205T121500
TZNAME:CET
TZOFFSETTO:+0100
TZOFFSETFROM:+0100
END:STANDARD
END:VTIMEZONE
END:VCALENDAR
