BEGIN:VCALENDAR
PRODID:-//eluceo/ical//2.0/EN
VERSION:2.0
CALSCALE:GREGORIAN
BEGIN:VEVENT
UID:20f4bb4f4b376679de7ffba6c85f4bab
DTSTAMP:20260423T042225Z
SUMMARY:giovedì 28 novembre 2019
DESCRIPTION:cena in sede e presentazione del tema "volontariato in Ticino" 
 da parte di Vira Shcherblyuk
URL:https://rotary-mendrisiotto.ch/it/agenda/show/103283
DTSTART;TZID=Europe/Zurich:20191128T191500
DTEND;TZID=Europe/Zurich:20191128T213000
LOCATION:Hotel Coronado
CATEGORIES:Rotary
END:VEVENT
BEGIN:VTIMEZONE
TZID:Europe/Zurich
BEGIN:STANDARD
DTSTART:20191128T191500
TZNAME:CET
TZOFFSETTO:+0100
TZOFFSETFROM:+0100
END:STANDARD
END:VTIMEZONE
END:VCALENDAR
