BEGIN:VCALENDAR
PRODID:-//eluceo/ical//2.0/EN
VERSION:2.0
CALSCALE:GREGORIAN
BEGIN:VEVENT
UID:d6c305239e84cc4deb870f8daa0c48ee
DTSTAMP:20260419T215854Z
SUMMARY:Tenuta la Luigina\, Stabio cena con degustazione\, California\, Asc
 ona\, Stabio con libro di Vito
DESCRIPTION:Vefsíða: https://tenutaluigina.ch\nFyrirlesari(ar): La Tenuta
  Luigina si trova a Stabio\, vicino al ristorante Montalbano\, che per l'o
 ccasione ci preparerà un catering da abbinare ai vini selezionati\, in pa
 rticolare si assaggeranno vini Californiani e ticinesi in quanto l'enologo
  presente\, Ettore Binagni\, si occupa di vinificare le uve californiane d
 urante il periodo estivo. Il tutto si concluderà con la presentazione del
 l'epico libro di Vito\, che già trovate su Amazon !  Costo per Sop e Osp
 iti CHF 60.- 
URL:https://rotary-mendrisiotto.ch/is/agenda/show/184735
DTSTART;TZID=Europe/Zurich:20240912T193000
DTEND;TZID=Europe/Zurich:20240912T193000
LOCATION:Via Bruciata 2\, Stabio
CATEGORIES:Rotary
END:VEVENT
BEGIN:VTIMEZONE
TZID:Europe/Zurich
BEGIN:DAYLIGHT
DTSTART:20240912T193000
TZNAME:CEST
TZOFFSETTO:+0200
TZOFFSETFROM:+0200
END:DAYLIGHT
END:VTIMEZONE
END:VCALENDAR
