BEGIN:VCALENDAR
PRODID:-//eluceo/ical//2.0/EN
VERSION:2.0
CALSCALE:GREGORIAN
BEGIN:VEVENT
UID:ddc97efdea2e8aa7269b72659bb29dca
DTSTAMP:20260419T221807Z
SUMMARY:Visita del Governatore
DESCRIPTION:Vefsíða: https://loverciano.ch\nFyrirlesari(ar): Conviviale c
 on visita del Governatore  Costo ospiti e SOP frs. 60.00  
URL:https://rotary-mendrisiotto.ch/is/agenda/show/184683
DTSTART;TZID=Europe/Zurich:20241010T190000
DTEND;TZID=Europe/Zurich:20241010T223000
LOCATION:Istituto S Angelo Loverciano\, Via Loverciano 2\, 6874 Castel San 
 Pietro\, Svizzera
CATEGORIES:Rotary
END:VEVENT
BEGIN:VTIMEZONE
TZID:Europe/Zurich
BEGIN:DAYLIGHT
DTSTART:20241010T190000
TZNAME:CEST
TZOFFSETTO:+0200
TZOFFSETFROM:+0200
END:DAYLIGHT
END:VTIMEZONE
END:VCALENDAR
