BEGIN:VCALENDAR
PRODID:-//eluceo/ical//2.0/EN
VERSION:2.0
CALSCALE:GREGORIAN
BEGIN:VEVENT
UID:7ae22100423c42b55677ba079c403cdd
DTSTAMP:20260420T021434Z
SUMMARY:Cena in sede con relatore M.Tognola (Rokj)
DESCRIPTION:Vefsíða: https://loverciano.ch\nFyrirlesari(ar): Cena convivi
 ale con il socio Massimo Tognola che ci aggiornerä sul progetto rokj e su
 gli sviluppi futuri. 
URL:https://rotary-mendrisiotto.ch/is/agenda/show/184681
DTSTART;TZID=Europe/Zurich:20241003T193000
DTEND;TZID=Europe/Zurich:20241003T193000
LOCATION:Istituto S Angelo Loverciano\, Via Loverciano 2\, 6874 Castel San 
 Pietro\, Svizzera
CATEGORIES:Rotary
END:VEVENT
BEGIN:VTIMEZONE
TZID:Europe/Zurich
BEGIN:DAYLIGHT
DTSTART:20241003T193000
TZNAME:CEST
TZOFFSETTO:+0200
TZOFFSETFROM:+0200
END:DAYLIGHT
END:VTIMEZONE
END:VCALENDAR
