BEGIN:VCALENDAR
PRODID:-//eluceo/ical//2.0/EN
VERSION:2.0
CALSCALE:GREGORIAN
BEGIN:VEVENT
UID:4c306a58aa02538a4d4138f709f54e07
DTSTAMP:20260422T212940Z
SUMMARY:Conviviale con torneo di bocce Grotto Croce
DESCRIPTION:Fyrirlesari(ar): Conviviale accompagnata dal nostro tradizional
 e torneo di bocce a coppie.Costo ospiti e SOP frs. 60.00
URL:https://rotary-mendrisiotto.ch/is/agenda/show/180126
DTSTART;TZID=Europe/Zurich:20240822T190000
DTEND;TZID=Europe/Zurich:20240822T230000
LOCATION:Osteria Grotto Croce\, via Monte Generoso 13\, 6874 Castel San Pie
 tro
CATEGORIES:Rotary
END:VEVENT
BEGIN:VTIMEZONE
TZID:Europe/Zurich
BEGIN:DAYLIGHT
DTSTART:20240822T190000
TZNAME:CEST
TZOFFSETTO:+0200
TZOFFSETFROM:+0200
END:DAYLIGHT
END:VTIMEZONE
END:VCALENDAR
