BEGIN:VCALENDAR
PRODID:-//eluceo/ical//2.0/EN
VERSION:2.0
CALSCALE:GREGORIAN
BEGIN:VEVENT
UID:ab8ab4881da7082ae84e00e26f2d7fcb
DTSTAMP:20260420T143131Z
SUMMARY:Serata con Luca Mauriello di Ated - Associazione Ticinese Evoluzion
 e Digitale
DESCRIPTION:Site internet: https://loverciano.ch\nConférencier(s): Serata 
 con Luca Mauriello di Ated - Associazione Ticinese Evoluzione Digitalehttp
 s://ated.ch/Associazione indipendente attiva nel Canton Ticino aperta a tu
 tte le persone\, aziende\, organizzazioni e scuole interessate alle tecnol
 ogie\, all'innovazione e alla trasformazione digitale.  
URL:https://rotary-mendrisiotto.ch/fr/agenda/show/191425
DTSTART;TZID=Europe/Zurich:20250206T191500
DTEND;TZID=Europe/Zurich:20250206T221500
LOCATION:Istituto S Angelo Loverciano\, Via Loverciano 2\, 6874 Castel San 
 Pietro\, Svizzera
CATEGORIES:Rotary
END:VEVENT
BEGIN:VTIMEZONE
TZID:Europe/Zurich
BEGIN:STANDARD
DTSTART:20250206T191500
TZNAME:CET
TZOFFSETTO:+0100
TZOFFSETFROM:+0100
END:STANDARD
END:VTIMEZONE
END:VCALENDAR
