BEGIN:VCALENDAR
PRODID:-//eluceo/ical//2.0/EN
VERSION:2.0
CALSCALE:GREGORIAN
BEGIN:VEVENT
UID:e50357a9b812c4ed69d2a2faf3b0bc4a
DTSTAMP:20260425T195240Z
SUMMARY:Intelligenza artificiale ma non solo con A. Trivilini
DESCRIPTION:Site internet: https://loverciano.ch
URL:https://rotary-mendrisiotto.ch/fr/agenda/show/189413
DTSTART;TZID=Europe/Zurich:20250220T193000
DTEND;TZID=Europe/Zurich:20250220T221500
LOCATION:Istituto S Angelo Loverciano\, Via Loverciano 2\, 6874 Castel San 
 Pietro\, Svizzera
CATEGORIES:Rotary
END:VEVENT
BEGIN:VTIMEZONE
TZID:Europe/Zurich
BEGIN:STANDARD
DTSTART:20250220T193000
TZNAME:CET
TZOFFSETTO:+0100
TZOFFSETFROM:+0100
END:STANDARD
END:VTIMEZONE
END:VCALENDAR
