BEGIN:VCALENDAR
PRODID:-//eluceo/ical//2.0/EN
VERSION:2.0
CALSCALE:GREGORIAN
BEGIN:VEVENT
UID:fe118c1b71c926a353dc6cd1ef692c6e
DTSTAMP:20260420T121019Z
SUMMARY:Assemblea annuale + degustazione formaggi e vini
DESCRIPTION:Conférencier(s): \n\n\n\n\n\n\n\n\n\n\n\n\n\n\n\n\n\n\nAssembl
 ea annuale + degustazione formaggi e vini
URL:https://rotary-mendrisiotto.ch/fr/agenda/show/168885
DTSTART;TZID=Europe/Zurich:20231116T190000
DTEND;TZID=Europe/Zurich:20231116T220000
LOCATION:Sede RC Mendrisiotto
CATEGORIES:Rotary
END:VEVENT
BEGIN:VTIMEZONE
TZID:Europe/Zurich
BEGIN:STANDARD
DTSTART:20231116T190000
TZNAME:CET
TZOFFSETTO:+0100
TZOFFSETFROM:+0100
END:STANDARD
END:VTIMEZONE
END:VCALENDAR
