BEGIN:VCALENDAR
PRODID:-//eluceo/ical//2.0/EN
VERSION:2.0
CALSCALE:GREGORIAN
BEGIN:VEVENT
UID:3e11cb25f646c22ab9748e3aa6afe52b
DTSTAMP:20260424T004927Z
SUMMARY:Cena con divisionario Maurizio Dattrino
DESCRIPTION:Site internet: https://loverciano.ch
URL:https://rotary-mendrisiotto.ch/fr/agenda/show/156967
DTSTART;TZID=Europe/Zurich:20230427T190000
DTEND;TZID=Europe/Zurich:20230427T210000
LOCATION:Istituto S Angelo Loverciano\, Via Loverciano 2\, 6874 Castel San 
 Pietro\, Svizzera
CATEGORIES:Rotary
END:VEVENT
BEGIN:VTIMEZONE
TZID:Europe/Zurich
BEGIN:DAYLIGHT
DTSTART:20230427T190000
TZNAME:CEST
TZOFFSETTO:+0200
TZOFFSETFROM:+0200
END:DAYLIGHT
END:VTIMEZONE
END:VCALENDAR
