BEGIN:VCALENDAR
PRODID:-//eluceo/ical//2.0/EN
VERSION:2.0
CALSCALE:GREGORIAN
BEGIN:VEVENT
UID:ae42f6ccf2cc54a4c517129ecb03aef5
DTSTAMP:20260424T004637Z
SUMMARY:Pranzo Pasquale
DESCRIPTION:Site internet: https://www.osterialanterna.com/
URL:https://rotary-mendrisiotto.ch/fr/agenda/show/156963
DTSTART;TZID=Europe/Zurich:20230413T121500
DTEND;TZID=Europe/Zurich:20230413T141500
LOCATION:Osteria LANTERNA Viale alle Cantine 10\, 6850 Mendrisio
CATEGORIES:Rotary
END:VEVENT
BEGIN:VTIMEZONE
TZID:Europe/Zurich
BEGIN:DAYLIGHT
DTSTART:20230413T121500
TZNAME:CEST
TZOFFSETTO:+0200
TZOFFSETFROM:+0200
END:DAYLIGHT
END:VTIMEZONE
END:VCALENDAR
