BEGIN:VCALENDAR
PRODID:-//eluceo/ical//2.0/EN
VERSION:2.0
CALSCALE:GREGORIAN
BEGIN:VEVENT
UID:e1e21c2aea759adf860427038f3c80e6
DTSTAMP:20260424T020844Z
SUMMARY:Colazione pre venerdi santo
DESCRIPTION:
URL:https://rotary-mendrisiotto.ch/fr/agenda/show/156961
DTSTART;TZID=Europe/Zurich:20230406T073000
DTEND;TZID=Europe/Zurich:20230406T073000
LOCATION:Chiasso
CATEGORIES:Rotary
END:VEVENT
BEGIN:VTIMEZONE
TZID:Europe/Zurich
BEGIN:DAYLIGHT
DTSTART:20230406T073000
TZNAME:CEST
TZOFFSETTO:+0200
TZOFFSETFROM:+0200
END:DAYLIGHT
END:VTIMEZONE
END:VCALENDAR
