BEGIN:VCALENDAR
PRODID:-//eluceo/ical//2.0/EN
VERSION:2.0
CALSCALE:GREGORIAN
BEGIN:VEVENT
UID:19bc15acc1a91ae9ce73c354193c1e6c
DTSTAMP:20260424T004337Z
SUMMARY:Visita aziendale La Rolla Propellers SA \, Novazzano con cena Grott
 o dei Tigli Balerna
DESCRIPTION:Site internet: http://www.rolla-propellers.ch
URL:https://rotary-mendrisiotto.ch/fr/agenda/show/156958
DTSTART;TZID=Europe/Zurich:20230330T184500
DTEND;TZID=Europe/Zurich:20230330T230000
LOCATION:Via Roncaglia 6\, Novazzano
CATEGORIES:Rotary
END:VEVENT
BEGIN:VTIMEZONE
TZID:Europe/Zurich
BEGIN:DAYLIGHT
DTSTART:20230330T184500
TZNAME:CEST
TZOFFSETTO:+0200
TZOFFSETFROM:+0200
END:DAYLIGHT
END:VTIMEZONE
END:VCALENDAR
