BEGIN:VCALENDAR
PRODID:-//eluceo/ical//2.0/EN
VERSION:2.0
CALSCALE:GREGORIAN
BEGIN:VEVENT
UID:eb7c8e24a8ec782ffbb382d805db4d6e
DTSTAMP:20260420T142238Z
SUMMARY:Giovedi da leoni
DESCRIPTION:
URL:https://rotary-mendrisiotto.ch/fr/agenda/show/156066
DTSTART;TZID=Europe/Zurich:20230316T191500
DTEND;TZID=Europe/Zurich:20230316T212000
LOCATION:Mercato coperto
CATEGORIES:Rotary
END:VEVENT
BEGIN:VTIMEZONE
TZID:Europe/Zurich
BEGIN:STANDARD
DTSTART:20230316T191500
TZNAME:CET
TZOFFSETTO:+0100
TZOFFSETFROM:+0100
END:STANDARD
END:VTIMEZONE
END:VCALENDAR
