BEGIN:VCALENDAR
PRODID:-//eluceo/ical//2.0/EN
VERSION:2.0
CALSCALE:GREGORIAN
BEGIN:VEVENT
UID:64cc7476f3a646d2458cc9f333c136c4
DTSTAMP:20260420T141536Z
SUMMARY:Cena con Elia Guzzi e Inkvivo
DESCRIPTION:Site internet: https://inkvivo.tech/
URL:https://rotary-mendrisiotto.ch/fr/agenda/show/155290
DTSTART;TZID=Europe/Zurich:20230223T191500
DTEND;TZID=Europe/Zurich:20230223T221500
LOCATION:sede
CATEGORIES:Rotary
END:VEVENT
BEGIN:VTIMEZONE
TZID:Europe/Zurich
BEGIN:STANDARD
DTSTART:20230223T191500
TZNAME:CET
TZOFFSETTO:+0100
TZOFFSETFROM:+0100
END:STANDARD
END:VTIMEZONE
END:VCALENDAR
