BEGIN:VCALENDAR
PRODID:-//eluceo/ical//2.0/EN
VERSION:2.0
CALSCALE:GREGORIAN
BEGIN:VEVENT
UID:843a6d8ff1d572776dcf8626b1ff36f3
DTSTAMP:20260420T141145Z
SUMMARY:Colazione di lavoro Mövenpick
DESCRIPTION:
URL:https://rotary-mendrisiotto.ch/fr/agenda/show/155289
DTSTART;TZID=Europe/Zurich:20230216T073000
DTEND;TZID=Europe/Zurich:20230216T083000
LOCATION:Mövenpick\, chiasso
CATEGORIES:Rotary
END:VEVENT
BEGIN:VTIMEZONE
TZID:Europe/Zurich
BEGIN:STANDARD
DTSTART:20230216T073000
TZNAME:CET
TZOFFSETTO:+0100
TZOFFSETFROM:+0100
END:STANDARD
END:VTIMEZONE
END:VCALENDAR
