BEGIN:VCALENDAR
PRODID:-//eluceo/ical//2.0/EN
VERSION:2.0
CALSCALE:GREGORIAN
BEGIN:VEVENT
UID:caa71fd671356d613058b29040019c9b
DTSTAMP:20260420T153845Z
SUMMARY:Evento pubblico RC Momo "Città dei Laghi"
DESCRIPTION:
URL:https://rotary-mendrisiotto.ch/fr/agenda/show/155288
DTSTART;TZID=Europe/Zurich:20230209T191500
DTEND;TZID=Europe/Zurich:20230209T220000
LOCATION:Accademia di architettura Mendrisio
CATEGORIES:Rotary
END:VEVENT
BEGIN:VTIMEZONE
TZID:Europe/Zurich
BEGIN:STANDARD
DTSTART:20230209T191500
TZNAME:CET
TZOFFSETTO:+0100
TZOFFSETFROM:+0100
END:STANDARD
END:VTIMEZONE
END:VCALENDAR
