BEGIN:VCALENDAR
PRODID:-//eluceo/ical//2.0/EN
VERSION:2.0
CALSCALE:GREGORIAN
BEGIN:VEVENT
UID:c1cffd3f9052be9609e753f8f8e24485
DTSTAMP:20260420T154108Z
SUMMARY:Cena conviviale con il Prof. Samuele Vorpe
DESCRIPTION:Site internet: http://www.supsi.ch/fisco\nConférencier(s): Pro
 f. Samuele Vorpe\, SUPSIDella revisione dei valori di stima immobiliare 
URL:https://rotary-mendrisiotto.ch/fr/agenda/show/155287
DTSTART;TZID=Europe/Zurich:20230202T191500
DTEND;TZID=Europe/Zurich:20230202T215500
LOCATION:in sede
CATEGORIES:Rotary
END:VEVENT
BEGIN:VTIMEZONE
TZID:Europe/Zurich
BEGIN:STANDARD
DTSTART:20230202T191500
TZNAME:CET
TZOFFSETTO:+0100
TZOFFSETFROM:+0100
END:STANDARD
END:VTIMEZONE
END:VCALENDAR
