BEGIN:VCALENDAR
PRODID:-//eluceo/ical//2.0/EN
VERSION:2.0
CALSCALE:GREGORIAN
BEGIN:VEVENT
UID:4a005b98eb06465a6d19012ded4f287c
DTSTAMP:20260420T153837Z
SUMMARY:Cena di Natale
DESCRIPTION:Site internet: https://loverciano.ch\nConférencier(s): FESTEGG
 IAMO TRA NOI\, FAMIGLIE E RACCOGLIAMO FONDIADDEBITO EXTRA TASSA RICHIESTO:
 - 20 fr  per socio attivo e - 100 per SOP/ospite\n\nMENU BIMBI A 17 FR. 
 IMPANATA CON PATATINE 
URL:https://rotary-mendrisiotto.ch/fr/agenda/show/150896
DTSTART;TZID=Europe/Zurich:20221222T190000
DTEND;TZID=Europe/Zurich:20221222T230000
LOCATION:Istituto S Angelo Loverciano\, Via Loverciano 2\, 6874 Castel San 
 Pietro\, Svizzera
CATEGORIES:Rotary
END:VEVENT
BEGIN:VTIMEZONE
TZID:Europe/Zurich
BEGIN:STANDARD
DTSTART:20221222T190000
TZNAME:CET
TZOFFSETTO:+0100
TZOFFSETFROM:+0100
END:STANDARD
END:VTIMEZONE
END:VCALENDAR
