BEGIN:VCALENDAR
PRODID:-//eluceo/ical//2.0/EN
VERSION:2.0
CALSCALE:GREGORIAN
BEGIN:VEVENT
UID:6a6680b6c3eb2aa4d60b7d257ec0b23e
DTSTAMP:20260420T153950Z
SUMMARY:APERO - PANETTONATA al MÖVEMPICK
DESCRIPTION:Conférencier(s): Affettati misti Ticinesi del\nSalumificio Cas
 telloVariazione di formaggi\nSvizzeriTatar di manzo MövenpickFocacciaPizz
 ettaSpiedini di pollo in salsa\npiccanteGambero involto in pasta di\npatat
 e\n\n\n\n\n\n\n\n\n\n\n\n\n\nOlive alla Ascolana*****segue PANETTONE CLASS
 ICO E AI MARRONS GLAC'ES di produzione Atelier de la Patisserie\, Melide
URL:https://rotary-mendrisiotto.ch/fr/agenda/show/150895
DTSTART;TZID=Europe/Zurich:20221215T190000
DTEND;TZID=Europe/Zurich:20221215T210000
LOCATION:MÖVEMPICK CHIASSO
CATEGORIES:Rotary
END:VEVENT
BEGIN:VTIMEZONE
TZID:Europe/Zurich
BEGIN:STANDARD
DTSTART:20221215T190000
TZNAME:CET
TZOFFSETTO:+0100
TZOFFSETFROM:+0100
END:STANDARD
END:VTIMEZONE
END:VCALENDAR
