BEGIN:VCALENDAR
PRODID:-//eluceo/ical//2.0/EN
VERSION:2.0
CALSCALE:GREGORIAN
BEGIN:VEVENT
UID:6b9e83eb2b6ccc507240321eba497752
DTSTAMP:20260420T154208Z
SUMMARY:Visita guidata con cena al Museo Vela "Il Filo di Arianna"
DESCRIPTION:Site internet: https://www.museo-vela.ch/vela/it/home.html\nCon
 férencier(s): Arianna Cortesi - carriere fuori dall'ordinarioUNA SARTA TI
 CINESE PER IL CINEMA E IL TEATRO!!!! È RICHIESTA UNA PARTECIPAZIONE AI CO
 STI DI 20 FR PRO CAPITE PER VISITA E CENA
URL:https://rotary-mendrisiotto.ch/fr/agenda/show/150891
DTSTART;TZID=Europe/Zurich:20221124T182000
DTEND;TZID=Europe/Zurich:20221124T182000
LOCATION:Museo Vela
CATEGORIES:Rotary
END:VEVENT
BEGIN:VTIMEZONE
TZID:Europe/Zurich
BEGIN:STANDARD
DTSTART:20221124T182000
TZNAME:CET
TZOFFSETTO:+0100
TZOFFSETFROM:+0100
END:STANDARD
END:VTIMEZONE
END:VCALENDAR
