BEGIN:VCALENDAR
PRODID:-//eluceo/ical//2.0/EN
VERSION:2.0
CALSCALE:GREGORIAN
BEGIN:VEVENT
UID:8640fb8cb81ef1b149d0f6394215d225
DTSTAMP:20260423T103947Z
SUMMARY:pranzo in amicizia
DESCRIPTION:Site internet: https://www.crottodeitigli.ch/
URL:https://rotary-mendrisiotto.ch/fr/agenda/show/146288
DTSTART;TZID=Europe/Zurich:20220714T121500
DTEND;TZID=Europe/Zurich:20220714T140000
LOCATION:PRANZO Grotto dei Tigli Balerna
CATEGORIES:Rotary
END:VEVENT
BEGIN:VTIMEZONE
TZID:Europe/Zurich
BEGIN:DAYLIGHT
DTSTART:20220714T121500
TZNAME:CEST
TZOFFSETTO:+0200
TZOFFSETFROM:+0200
END:DAYLIGHT
END:VTIMEZONE
END:VCALENDAR
