BEGIN:VCALENDAR
PRODID:-//eluceo/ical//2.0/EN
VERSION:2.0
CALSCALE:GREGORIAN
BEGIN:VEVENT
UID:ede01d2a1b16123df75f8aee86617e0e
DTSTAMP:20260422T014052Z
SUMMARY:ROTARY ACTION DAY
DESCRIPTION:Site internet: https://www.gruppoverdesperanza.com
URL:https://rotary-mendrisiotto.ch/fr/agenda/show/139951
DTSTART;TZID=Europe/Zurich:20220521T140000
DTEND;TZID=Europe/Zurich:20220521T173000
LOCATION:ritrovo h 13\,45 stazione di Capolago-Riva S Vitale
CATEGORIES:Rotary
END:VEVENT
BEGIN:VTIMEZONE
TZID:Europe/Zurich
BEGIN:DAYLIGHT
DTSTART:20220521T140000
TZNAME:CEST
TZOFFSETTO:+0200
TZOFFSETFROM:+0200
END:DAYLIGHT
END:VTIMEZONE
END:VCALENDAR
