BEGIN:VCALENDAR
PRODID:-//eluceo/ical//2.0/EN
VERSION:2.0
CALSCALE:GREGORIAN
BEGIN:VEVENT
UID:10585c03725ed82185ec5cb762b2a47e
DTSTAMP:20260423T111940Z
SUMMARY:SERATA AL GROTTO CONZA
DESCRIPTION:Site internet: https://osteriagrottoconza.com
URL:https://rotary-mendrisiotto.ch/fr/agenda/show/139499
DTSTART;TZID=Europe/Zurich:20220421T190000
DTEND;TZID=Europe/Zurich:20220421T220000
LOCATION:Via alla Madonna 23 ROVIO
CATEGORIES:Rotary
END:VEVENT
BEGIN:VTIMEZONE
TZID:Europe/Zurich
BEGIN:DAYLIGHT
DTSTART:20220421T190000
TZNAME:CEST
TZOFFSETTO:+0200
TZOFFSETFROM:+0200
END:DAYLIGHT
END:VTIMEZONE
END:VCALENDAR
