BEGIN:VCALENDAR
PRODID:-//eluceo/ical//2.0/EN
VERSION:2.0
CALSCALE:GREGORIAN
BEGIN:VEVENT
UID:2e1977a4c6c0fcbb63b0f74af683c5b0
DTSTAMP:20260422T040744Z
SUMMARY:RIPRESA ATTIVITA' IN SEDE
DESCRIPTION:Site internet: https://loverciano.ch
URL:https://rotary-mendrisiotto.ch/fr/agenda/show/139496
DTSTART;TZID=Europe/Zurich:20220303T190000
DTEND;TZID=Europe/Zurich:20220303T220000
LOCATION:Istituto S Angelo Loverciano
CATEGORIES:Rotary
END:VEVENT
BEGIN:VTIMEZONE
TZID:Europe/Zurich
BEGIN:STANDARD
DTSTART:20220303T190000
TZNAME:CET
TZOFFSETTO:+0100
TZOFFSETFROM:+0100
END:STANDARD
END:VTIMEZONE
END:VCALENDAR
