BEGIN:VCALENDAR
PRODID:-//eluceo/ical//2.0/EN
VERSION:2.0
CALSCALE:GREGORIAN
BEGIN:VEVENT
UID:49b3aee4437e596e302448f2d9c0bec9
DTSTAMP:20260423T104824Z
SUMMARY:conviviale di passaggio delle consegne
DESCRIPTION:Site internet: https://www.vecchiaosteria.ch
URL:https://rotary-mendrisiotto.ch/fr/agenda/show/137341
DTSTART;TZID=Europe/Zurich:20220623T190000
DTEND;TZID=Europe/Zurich:20220623T213000
LOCATION:Vecchia Osteria Seseglio
CATEGORIES:Rotary
END:VEVENT
BEGIN:VTIMEZONE
TZID:Europe/Zurich
BEGIN:DAYLIGHT
DTSTART:20220623T190000
TZNAME:CEST
TZOFFSETTO:+0200
TZOFFSETFROM:+0200
END:DAYLIGHT
END:VTIMEZONE
END:VCALENDAR
