BEGIN:VCALENDAR
PRODID:-//eluceo/ical//2.0/EN
VERSION:2.0
CALSCALE:GREGORIAN
BEGIN:VEVENT
UID:61f4f389d249a083d194108adc0a2003
DTSTAMP:20260421T213031Z
SUMMARY:Prolusione Simona Genini
DESCRIPTION:Conférencier(s): Simona Genini
URL:https://rotary-mendrisiotto.ch/fr/agenda/show/137338
DTSTART;TZID=Europe/Zurich:20220609T190000
DTEND;TZID=Europe/Zurich:20220609T220000
LOCATION:Cantina del Castello Vico Morcote Strada al castel 28
CATEGORIES:Rotary
END:VEVENT
BEGIN:VTIMEZONE
TZID:Europe/Zurich
BEGIN:DAYLIGHT
DTSTART:20220609T190000
TZNAME:CEST
TZOFFSETTO:+0200
TZOFFSETFROM:+0200
END:DAYLIGHT
END:VTIMEZONE
END:VCALENDAR
