BEGIN:VCALENDAR
PRODID:-//eluceo/ical//2.0/EN
VERSION:2.0
CALSCALE:GREGORIAN
BEGIN:VEVENT
UID:1ade84e2acd81a1b69528c9301d60e88
DTSTAMP:20260421T195047Z
SUMMARY:Prolusione Davide Zonca
DESCRIPTION:Site internet: https://www.vecchiaosteria.ch\nConférencier(s):
  Davide Zonca
URL:https://rotary-mendrisiotto.ch/fr/agenda/show/137337
DTSTART;TZID=Europe/Zurich:20220310T190000
DTEND;TZID=Europe/Zurich:20220310T213000
LOCATION:Vecchia Osteria Seseglio
CATEGORIES:Rotary
END:VEVENT
BEGIN:VTIMEZONE
TZID:Europe/Zurich
BEGIN:STANDARD
DTSTART:20220310T190000
TZNAME:CET
TZOFFSETTO:+0100
TZOFFSETFROM:+0100
END:STANDARD
END:VTIMEZONE
END:VCALENDAR
